BEGIN:VCALENDAR
VERSION:2.0
PRODID:-//Teatro LATEA - ECPv6.15.18//NONSGML v1.0//EN
CALSCALE:GREGORIAN
METHOD:PUBLISH
X-ORIGINAL-URL:https://teatrolatea.org
X-WR-CALDESC:Events for Teatro LATEA
REFRESH-INTERVAL;VALUE=DURATION:PT1H
X-Robots-Tag:noindex
X-PUBLISHED-TTL:PT1H
BEGIN:VTIMEZONE
TZID:America/New_York
BEGIN:DAYLIGHT
TZOFFSETFROM:-0500
TZOFFSETTO:-0400
TZNAME:EDT
DTSTART:20250309T070000
END:DAYLIGHT
BEGIN:STANDARD
TZOFFSETFROM:-0400
TZOFFSETTO:-0500
TZNAME:EST
DTSTART:20251102T060000
END:STANDARD
BEGIN:DAYLIGHT
TZOFFSETFROM:-0500
TZOFFSETTO:-0400
TZNAME:EDT
DTSTART:20260308T070000
END:DAYLIGHT
BEGIN:STANDARD
TZOFFSETFROM:-0400
TZOFFSETTO:-0500
TZNAME:EST
DTSTART:20261101T060000
END:STANDARD
BEGIN:DAYLIGHT
TZOFFSETFROM:-0500
TZOFFSETTO:-0400
TZNAME:EDT
DTSTART:20270314T070000
END:DAYLIGHT
BEGIN:STANDARD
TZOFFSETFROM:-0400
TZOFFSETTO:-0500
TZNAME:EST
DTSTART:20271107T060000
END:STANDARD
END:VTIMEZONE
BEGIN:VEVENT
DTSTART;TZID=America/New_York:20260430T193000
DTEND;TZID=America/New_York:20260430T210000
DTSTAMP:20260426T002135
CREATED:20260407T175141Z
LAST-MODIFIED:20260416T203122Z
UID:14647-1777577400-1777582800@teatrolatea.org
SUMMARY:LA DAMA DEL ALBA
DESCRIPTION:Una familia vive sumida en el dolor desde que la muerte de Angélica dejó un vacío imposible de llenar.\nLa llegada de La Peregrina\, una mujer misteriosa que irrumpe en su hogar en medio de la noche\,\naltera la aparente calma y despierta emociones que habían permanecido enterradas. \n 
URL:https://teatrolatea.org/event/la-dama-del-alba/
ATTACH;FMTTYPE=image/png:https://teatrolatea.org/wp-content/uploads/2026/04/B10137AD-C138-43AA-B1A9-6244785FB401-1.png
END:VEVENT
BEGIN:VEVENT
DTSTART;TZID=America/New_York:20260501T193000
DTEND;TZID=America/New_York:20260501T210000
DTSTAMP:20260426T002135
CREATED:20260415T164555Z
LAST-MODIFIED:20260416T203146Z
UID:14658-1777663800-1777669200@teatrolatea.org
SUMMARY:LA DAMA DEL ALBA
DESCRIPTION:Una familia vive sumida en el dolor desde que la muerte de Angélica dejó un vacío imposible de llenar.\nLa llegada de La Peregrina\, una mujer misteriosa que irrumpe en su hogar en medio de la noche\,\naltera la aparente calma y despierta emociones que habían permanecido enterradas. \n 
URL:https://teatrolatea.org/event/la-dama-del-alba-2/
ATTACH;FMTTYPE=image/png:https://teatrolatea.org/wp-content/uploads/2026/04/B10137AD-C138-43AA-B1A9-6244785FB401-1.png
END:VEVENT
BEGIN:VEVENT
DTSTART;TZID=America/New_York:20260502T193000
DTEND;TZID=America/New_York:20260502T210000
DTSTAMP:20260426T002135
CREATED:20260416T203554Z
LAST-MODIFIED:20260416T203554Z
UID:14670-1777750200-1777755600@teatrolatea.org
SUMMARY:LA DAMA DEL ALBA
DESCRIPTION:Una familia vive sumida en el dolor desde que la muerte de Angélica dejó un vacío imposible de llenar.\nLa llegada de La Peregrina\, una mujer misteriosa que irrumpe en su hogar en medio de la noche\,\naltera la aparente calma y despierta emociones que habían permanecido enterradas. \n 
URL:https://teatrolatea.org/event/la-dama-del-alba-3/
ATTACH;FMTTYPE=image/png:https://teatrolatea.org/wp-content/uploads/2026/04/B10137AD-C138-43AA-B1A9-6244785FB401-1.png
END:VEVENT
BEGIN:VEVENT
DTSTART;TZID=America/New_York:20260503T160000
DTEND;TZID=America/New_York:20260503T180000
DTSTAMP:20260426T002135
CREATED:20260416T203948Z
LAST-MODIFIED:20260416T203948Z
UID:14673-1777824000-1777831200@teatrolatea.org
SUMMARY:LA DAMA DEL ALBA
DESCRIPTION:Una familia vive sumida en el dolor desde que la muerte de Angélica dejó un vacío imposible de llenar.\nLa llegada de La Peregrina\, una mujer misteriosa que irrumpe en su hogar en medio de la noche\,\naltera la aparente calma y despierta emociones que habían permanecido enterradas. \n 
URL:https://teatrolatea.org/event/la-dama-del-alba-4/
ATTACH;FMTTYPE=image/png:https://teatrolatea.org/wp-content/uploads/2026/04/B10137AD-C138-43AA-B1A9-6244785FB401-1.png
END:VEVENT
END:VCALENDAR