BEGIN:VCALENDAR
VERSION:2.0
PRODID:-//Teatro LATEA - ECPv6.15.18//NONSGML v1.0//EN
CALSCALE:GREGORIAN
METHOD:PUBLISH
X-WR-CALNAME:Teatro LATEA
X-ORIGINAL-URL:https://teatrolatea.org
X-WR-CALDESC:Events for Teatro LATEA
REFRESH-INTERVAL;VALUE=DURATION:PT1H
X-Robots-Tag:noindex
X-PUBLISHED-TTL:PT1H
BEGIN:VTIMEZONE
TZID:America/New_York
BEGIN:DAYLIGHT
TZOFFSETFROM:-0500
TZOFFSETTO:-0400
TZNAME:EDT
DTSTART:20250309T070000
END:DAYLIGHT
BEGIN:STANDARD
TZOFFSETFROM:-0400
TZOFFSETTO:-0500
TZNAME:EST
DTSTART:20251102T060000
END:STANDARD
BEGIN:DAYLIGHT
TZOFFSETFROM:-0500
TZOFFSETTO:-0400
TZNAME:EDT
DTSTART:20260308T070000
END:DAYLIGHT
BEGIN:STANDARD
TZOFFSETFROM:-0400
TZOFFSETTO:-0500
TZNAME:EST
DTSTART:20261101T060000
END:STANDARD
BEGIN:DAYLIGHT
TZOFFSETFROM:-0500
TZOFFSETTO:-0400
TZNAME:EDT
DTSTART:20270314T070000
END:DAYLIGHT
BEGIN:STANDARD
TZOFFSETFROM:-0400
TZOFFSETTO:-0500
TZNAME:EST
DTSTART:20271107T060000
END:STANDARD
END:VTIMEZONE
BEGIN:VEVENT
DTSTART;TZID=America/New_York:20260220T200000
DTEND;TZID=America/New_York:20260220T210000
DTSTAMP:20260425T223827
CREATED:20251206T030450Z
LAST-MODIFIED:20251212T204248Z
UID:13395-1771617600-1771621200@teatrolatea.org
SUMMARY:El Gallo Friday Ticket
DESCRIPTION:El Gallo \nAn interpred of Joaquin Balaguer by Francis Cruz \nScript – Rafael S. Morla \nDirector /  Coproduce  – Fausto Rojas \nAssociate Producer – Tony Gomez \nIdea/ / General Producer – Francis Cruz
URL:https://teatrolatea.org/event/el-gallo-friday-ticket/
LOCATION:Teatro Latea
ATTACH;FMTTYPE=image/jpeg:https://teatrolatea.org/wp-content/uploads/2025/12/2025_ElGallo_1240x900_v1-1.jpg
END:VEVENT
END:VCALENDAR